BEGIN:VCALENDAR
VERSION:2.0
PRODID:-//Center for the Philosophy of Freedom - ECPv6.15.17//NONSGML v1.0//EN
CALSCALE:GREGORIAN
METHOD:PUBLISH
X-WR-CALNAME:Center for the Philosophy of Freedom
X-ORIGINAL-URL:https://freedomcenter.arizona.edu
X-WR-CALDESC:Events for Center for the Philosophy of Freedom
REFRESH-INTERVAL;VALUE=DURATION:PT1H
X-Robots-Tag:noindex
X-PUBLISHED-TTL:PT1H
BEGIN:VTIMEZONE
TZID:America/Boise
BEGIN:DAYLIGHT
TZOFFSETFROM:-0700
TZOFFSETTO:-0600
TZNAME:MDT
DTSTART:20250309T090000
END:DAYLIGHT
BEGIN:STANDARD
TZOFFSETFROM:-0600
TZOFFSETTO:-0700
TZNAME:MST
DTSTART:20251102T080000
END:STANDARD
BEGIN:DAYLIGHT
TZOFFSETFROM:-0700
TZOFFSETTO:-0600
TZNAME:MDT
DTSTART:20260308T090000
END:DAYLIGHT
BEGIN:STANDARD
TZOFFSETFROM:-0600
TZOFFSETTO:-0700
TZNAME:MST
DTSTART:20261101T080000
END:STANDARD
BEGIN:DAYLIGHT
TZOFFSETFROM:-0700
TZOFFSETTO:-0600
TZNAME:MDT
DTSTART:20270314T090000
END:DAYLIGHT
BEGIN:STANDARD
TZOFFSETFROM:-0600
TZOFFSETTO:-0700
TZNAME:MST
DTSTART:20271107T080000
END:STANDARD
END:VTIMEZONE
BEGIN:VEVENT
DTSTART;VALUE=DATE:20260419
DTEND;VALUE=DATE:20260501
DTSTAMP:20260423T031804
CREATED:20251113T174434Z
LAST-MODIFIED:20260205T214929Z
UID:10000089-1776556800-1777593599@freedomcenter.arizona.edu
SUMMARY:Visiting Fellow: C. Mónica Capra
DESCRIPTION:The Freedom Center is excited to welcome C. Mónica Capra as a visiting fellow during Spring 2026. Visit date: April 19 – 30\, 2026.
URL:https://freedomcenter.arizona.edu/event/visiting-fellow-c-monica-capra-2/
CATEGORIES:Visiting Fellow Dates
ATTACH;FMTTYPE=image/jpeg:https://freedomcenter.arizona.edu/wp-content/uploads/2024/11/Capra_monica.jpg
END:VEVENT
BEGIN:VEVENT
DTSTART;TZID=America/Boise:20260423T123000
DTEND;TZID=America/Boise:20260423T133000
DTSTAMP:20260423T031804
CREATED:20260323T232211Z
LAST-MODIFIED:20260415T225739Z
UID:10000103-1776947400-1776951000@freedomcenter.arizona.edu
SUMMARY:FC Talks: Matteo Gatti
DESCRIPTION:[vc_row type=”in_container” full_screen_row_position=”middle” column_margin=”default” column_direction=”default” column_direction_tablet=”default” column_direction_phone=”default” scene_position=”center” text_color=”dark” text_align=”left” row_border_radius=”none” row_border_radius_applies=”bg” row_position_desktop=”default” row_position_tablet=”inherit” row_position_phone=”inherit” overflow=”visible” overlay_strength=”0.3″ gradient_direction=”left_to_right” shape_divider_position=”bottom” bg_image_animation=”none”][vc_column column_padding=”no-extra-padding” column_padding_tablet=”inherit” column_padding_phone=”inherit” column_padding_position=”all” flex_gap_desktop=”10px” column_element_direction_desktop=”default” column_element_spacing=”default” desktop_text_alignment=”default” tablet_text_alignment=”default” phone_text_alignment=”default” background_color_opacity=”1″ background_hover_color_opacity=”1″ column_backdrop_filter=”none” column_shadow=”none” column_border_radius=”none” column_link_target=”_self” column_position=”default” gradient_direction=”left_to_right” overlay_strength=”0.3″ width=”1/1″ tablet_width_inherit=”default” animation_type=”default” bg_image_animation=”none” border_type=”simple” column_border_width=”none” column_border_style=”solid”][vc_column_text css=”” text_direction=”default”]Join us for an engaging talk by Matteo Gatti. This event will take place April 23 in Social Sciences 224 from 12:30 PM to 1:30 PM. Don’t miss this opportunity to gain valuable insights and participate in a stimulating discussion![/vc_column_text][vc_row_inner column_margin=”default” column_direction=”default” column_direction_tablet=”default” column_direction_phone=”default” text_align=”left” row_position=”default” row_position_tablet=”inherit” row_position_phone=”inherit” overflow=”visible” pointer_events=”all”][vc_column_inner column_padding=”no-extra-padding” column_padding_tablet=”inherit” column_padding_phone=”inherit” column_padding_position=”all” flex_gap_desktop=”10px” column_element_direction_desktop=”default” column_element_spacing=”default” desktop_text_alignment=”default” tablet_text_alignment=”default” phone_text_alignment=”default” background_color_opacity=”1″ background_hover_color_opacity=”1″ column_backdrop_filter=”none” column_shadow=”none” column_border_radius=”none” column_link_target=”_self” overflow=”visible” gradient_direction=”left_to_right” overlay_strength=”0.3″ width=”1/1″ tablet_width_inherit=”default” animation_type=”default” bg_image_animation=”none” border_type=”simple” column_border_width=”none” column_border_style=”solid”][split_line_heading line_reveal_by_space_text_effect=”default” font_style=”h1″ content_alignment=”default” mobile_content_alignment=”inherit” animation_type=”line-reveal-by-space” link_target=”_self” text_content=”Corporate Power and the Politics of Change” text_direction=”default”][/split_line_heading][/vc_column_inner][/vc_row_inner][/vc_column][/vc_row][vc_row type=”in_container” full_screen_row_position=”middle” column_margin=”default” column_direction=”default” column_direction_tablet=”default” column_direction_phone=”default” scene_position=”center” text_color=”dark” text_align=”left” row_border_radius=”none” row_border_radius_applies=”bg” row_position_desktop=”default” row_position_tablet=”inherit” row_position_phone=”inherit” overflow=”visible” overlay_strength=”0.3″ gradient_direction=”left_to_right” shape_divider_position=”bottom” bg_image_animation=”none” gradient_type=”default” shape_type=””][vc_column column_padding=”no-extra-padding” column_padding_tablet=”inherit” column_padding_phone=”inherit” column_padding_position=”all” flex_gap_desktop=”10px” column_element_direction_desktop=”default” column_element_spacing=”default” desktop_text_alignment=”default” tablet_text_alignment=”default” phone_text_alignment=”default” background_color_opacity=”1″ background_hover_color_opacity=”1″ column_backdrop_filter=”none” column_shadow=”none” column_border_radius=”none” column_link_target=”_self” column_position=”default” gradient_direction=”left_to_right” overlay_strength=”0.3″ width=”1/2″ tablet_width_inherit=”default” animation_type=”default” bg_image_animation=”none” border_type=”simple” column_border_width=”none” column_border_style=”solid”][vc_column_text css=”” text_direction=”default”]\nBio\nMatteo Gatti is a professor of law at Rutgers Law School and a Research Member of the European Corporate Governance Institute. His work sits at the intersection of corporate law\, financial regulation\, and political economy\, with a particular focus on corporate power\, governance structures\, and the interaction between firms\, markets\, and public institutions. He holds degrees from the University of Milan (J.D.\, summa cum laude)\, Harvard Law School (LL.M.)\, and the University of Brescia (S.J.D.)\, and has worked in private legal practice and in-house counsel roles in multiple jurisdictions on corporate and M&A matters. \nHis scholarly work has been published or accepted for publication in leading journals\, including the Stanford Law Review\, Journal of Corporation Law\, BYU Law Review\, North Carolina Law Review\,Columbia Law Review Forum\, Journal of Corporate Law Studies\, and the European Business Organization Law Review. His research has been cited in major treatises and regulatory reviews\, including by the European Commission. He is the author of two books\, including Corporate Power and the Politics of Change (Cambridge University Press\, 2026). \nGatti has held visiting appointments and fellowships at institutions including Goethe University Frankfurt and Harvard Law School\, and lectures and presents regularly around the world. His work and commentary regularly appear in academic and policy forums such as the Harvard Law School Forum on Corporate Governance\, the CLS Blue Sky Blog\, the Oxford Business Law Blog\, and Jotwell\, as well as in mainstream outlets including the Financial Times\, CNN Business\, Forbes\, and Law360. He is admitted to the New York Bar.[/vc_column_text][vc_column_text css=”” text_direction=”default”]Can’t make it in person? \nJoin the talk online! \nAdd this talk to your calendar![/vc_column_text][/vc_column][vc_column column_padding=”no-extra-padding” column_padding_tablet=”inherit” column_padding_phone=”inherit” column_padding_position=”all” flex_gap_desktop=”10px” column_element_direction_desktop=”default” column_element_spacing=”default” desktop_text_alignment=”default” tablet_text_alignment=”default” phone_text_alignment=”default” background_color_opacity=”1″ background_hover_color_opacity=”1″ column_backdrop_filter=”none” column_shadow=”none” column_border_radius=”none” column_link_target=”_self” column_position=”default” gradient_direction=”left_to_right” overlay_strength=”0.3″ width=”1/2″ tablet_width_inherit=”default” animation_type=”default” bg_image_animation=”none” border_type=”simple” column_border_width=”none” column_border_style=”solid”][vc_column_text css=”” text_direction=”default”]\nAbstract\nOver the past decade\, corporations have moved in the political sphere well beyond traditional lobbying. Many took public positions on climate change\, racial justice\, voting rights\, immigration\, and reproductive healthcare\, redesigning internal policies and publicly opposing or supporting political developments. These interventions blurred the boundary between economic activity and political authority\, raising a fundamental question: when corporations act as political and governing actors\, what happens to democratic decision-making?\nIn Corporate Power and the Politics of Change\, Matteo Gatti offers a comprehensive account of this phenomenon\, which he terms “corporate governing.” The book traces the legal\, strategic\, and institutional forces that pushed firms into public-policy roles—from regulatory gridlock and political polarization to reputational pressures and market dynamics. It also explains why this period of heightened corporate visibility is now giving way to silence and retrenchment under more openly transactional political conditions.\nDrawing on corporate law and insights from economics\, finance\, marketing\, and political science\, the book assesses the risks corporate governing poses to democratic accountability while questioning the assumption that firms can—or should—substitute for public institutions. The talk will explore these dynamics and consider what the rise and retreat of corporate political engagement reveal about power\, responsibility\, and governance in contemporary capitalism.[/vc_column_text][/vc_column][/vc_row][vc_row type=”in_container” full_screen_row_position=”middle” column_margin=”default” column_direction=”default” column_direction_tablet=”default” column_direction_phone=”default” scene_position=”center” text_color=”dark” text_align=”left” row_border_radius=”none” row_border_radius_applies=”bg” row_position_desktop=”default” row_position_tablet=”inherit” row_position_phone=”inherit” overflow=”visible” overlay_strength=”0.3″ gradient_direction=”left_to_right” shape_divider_position=”bottom” bg_image_animation=”none”][vc_column column_padding=”no-extra-padding” column_padding_tablet=”inherit” column_padding_phone=”inherit” column_padding_position=”all” flex_gap_desktop=”10px” column_element_direction_desktop=”default” column_element_spacing=”default” desktop_text_alignment=”default” tablet_text_alignment=”default” phone_text_alignment=”default” background_color_opacity=”1″ background_hover_color_opacity=”1″ column_backdrop_filter=”none” column_shadow=”none” column_border_radius=”none” column_link_target=”_self” column_position=”default” gradient_direction=”left_to_right” overlay_strength=”0.3″ width=”1/1″ tablet_width_inherit=”default” animation_type=”default” bg_image_animation=”none” border_type=”simple” column_border_width=”none” column_border_style=”solid”][vc_column_text]\n[/vc_column_text][/vc_column][/vc_row]
URL:https://freedomcenter.arizona.edu/event/matteogatti/
LOCATION:Social Sciences 224\, 1145 E South Campus Drive\, Tucson\, AZ\, 85721\, United States
CATEGORIES:Freedom Center Talks
ATTACH;FMTTYPE=image/jpeg:https://freedomcenter.arizona.edu/wp-content/uploads/2026/03/Matteo-Gatti.jpg
END:VEVENT
BEGIN:VEVENT
DTSTART;TZID=America/Boise:20260425T160000
DTEND;TZID=America/Boise:20260425T170000
DTSTAMP:20260423T031804
CREATED:20260416T234751Z
LAST-MODIFIED:20260421T200152Z
UID:10000104-1777132800-1777136400@freedomcenter.arizona.edu
SUMMARY:Hack Arizona Workshop: The Silicon Sample
DESCRIPTION:[vc_row type=”in_container” full_screen_row_position=”middle” column_margin=”default” column_direction=”default” column_direction_tablet=”default” column_direction_phone=”default” scene_position=”center” text_color=”dark” text_align=”left” row_border_radius=”none” row_border_radius_applies=”bg” row_position_desktop=”default” row_position_tablet=”inherit” row_position_phone=”inherit” overflow=”visible” overlay_strength=”0.3″ gradient_direction=”left_to_right” shape_divider_position=”bottom” bg_image_animation=”none”][vc_column column_padding=”no-extra-padding” column_padding_tablet=”inherit” column_padding_phone=”inherit” column_padding_position=”all” flex_gap_desktop=”10px” column_element_direction_desktop=”default” column_element_spacing=”default” desktop_text_alignment=”default” tablet_text_alignment=”default” phone_text_alignment=”default” background_color_opacity=”1″ background_hover_color_opacity=”1″ column_backdrop_filter=”none” column_shadow=”none” column_border_radius=”none” column_link_target=”_self” column_position=”default” gradient_direction=”left_to_right” overlay_strength=”0.3″ width=”1/1″ tablet_width_inherit=”default” animation_type=”default” bg_image_animation=”none” border_type=”simple” column_border_width=”none” column_border_style=”solid”][split_line_heading line_reveal_by_space_text_effect=”default” font_style=”h1″ content_alignment=”default” mobile_content_alignment=”inherit” animation_type=”line-reveal-by-space” link_target=”_self” text_content=”The Silicon Sample: Engineering Synthetic Cultural Agents (SCAs) for Culturally Robust AI” text_direction=”default”][/split_line_heading][vc_column_text css=”” text_direction=”default”]LLMs don’t represent “everyone”—they represent a default human. Most models are tuned to a WEIRD (Western\, Educated\, Industrialized\, Rich\, Democratic) norm\, making them fragile or misleading when used in global or diverse settings. In this workshop\, participants will explore Synthetic Cultural Agents (SCAs): AI agents designed to simulate the values\, risk preferences\, and decision-making styles of real human populations. \nLearn how to spot hidden bias\, stress-test ideas\, and build LLM-powered solutions that actually scale beyond a single assumed user. Perfect for hackathon teams building for real-world impact.[/vc_column_text][nectar_cta btn_style=”see-through” heading_tag=”span” link_type=”regular” button_color=”default” button_border_thickness=”0px” alignment=”left” alignment_tablet=”default” alignment_phone=”default” display=”block” display_tablet=”inherit” display_phone=”inherit” link_text=”REGISTER FOR HACK ARIZONA” url=”https://hack.arizona.edu/” font_size_desktop=”30″][/vc_column][/vc_row][vc_row type=”in_container” full_screen_row_position=”middle” column_margin=”default” column_direction=”default” column_direction_tablet=”default” column_direction_phone=”default” scene_position=”center” text_color=”dark” text_align=”left” row_border_radius=”none” row_border_radius_applies=”bg” row_position_desktop=”default” row_position_tablet=”inherit” row_position_phone=”inherit” overflow=”visible” overlay_strength=”0.3″ gradient_direction=”left_to_right” shape_divider_position=”bottom” bg_image_animation=”none” gradient_type=”default” shape_type=””][vc_column column_padding=”no-extra-padding” column_padding_tablet=”inherit” column_padding_phone=”inherit” column_padding_position=”all” flex_gap_desktop=”10px” column_element_direction_desktop=”default” column_element_spacing=”default” desktop_text_alignment=”default” tablet_text_alignment=”default” phone_text_alignment=”default” background_color_opacity=”1″ background_hover_color_opacity=”1″ column_backdrop_filter=”none” column_shadow=”none” column_border_radius=”none” column_link_target=”_self” column_position=”default” gradient_direction=”left_to_right” overlay_strength=”0.3″ width=”1/2″ tablet_width_inherit=”default” animation_type=”default” bg_image_animation=”none” border_type=”simple” column_border_width=”none” column_border_style=”solid”][vc_column_text css=”” text_direction=”default”]\nChallenge\nTeams will put theory into action by comparing five powerful techniques for narrowing an\nLLM’s probability space into a specific cultural manifold: \n\nDemographic Steering — Lock priors using structured JSON configs\nRecursive Memory & Reflection — Build agents with stable self-schemas\nSocial RAG — Ground agents in localized\, real-time epistemic bases\nPolyglot Persona — Treat language as a hidden cultural parameter\nLatent Space Fine-Tuning — Hard-code alignment via weights and reward models\n\n[/vc_column_text][vc_column_text css=”” text_direction=”default”]\nFacilitators\nKseniia Biriukova and Monica Capra from the EconLLM Lab[/vc_column_text][/vc_column][vc_column column_padding=”no-extra-padding” column_padding_tablet=”inherit” column_padding_phone=”inherit” column_padding_position=”all” flex_gap_desktop=”10px” column_element_direction_desktop=”default” column_element_spacing=”default” desktop_text_alignment=”default” tablet_text_alignment=”default” phone_text_alignment=”default” background_color_opacity=”1″ background_hover_color_opacity=”1″ column_backdrop_filter=”none” column_shadow=”none” column_border_radius=”none” column_link_target=”_self” column_position=”default” gradient_direction=”left_to_right” overlay_strength=”0.3″ width=”1/2″ tablet_width_inherit=”default” animation_type=”default” bg_image_animation=”none” border_type=”simple” column_border_width=”none” column_border_style=”solid”][vc_column_text css=”” text_direction=”default”]\nKey Takeaways\n\nA Social Science Lens on AI: See how technical design choices reshape model behavior\, fidelity\, and decision-making\nSCA Methods\, Compared: Understand the real trade-offs between scalability\, precision\, and realism\nResearch-Driven Innovation: Engage with foundational work (e.g.\, Argyle et al.) and cutting-edge advances in Polyglot Persona Drift and Synthetic Ethnography\n\n[/vc_column_text][/vc_column][/vc_row]
URL:https://freedomcenter.arizona.edu/event/hack-arizona/
LOCATION:Health Sciences Innovation Building\, 1670 E Drachman\, Tucson\, 85721\, United States
CATEGORIES:Workshops & Conferences
ATTACH;FMTTYPE=image/png:https://freedomcenter.arizona.edu/wp-content/uploads/2026/04/Hackathon-Workshop-1x1-1.png
END:VEVENT
END:VCALENDAR